BEGIN:VCALENDAR
VERSION:2.0
PRODID:-//Bhūmikā - ECPv6.15.20//NONSGML v1.0//EN
CALSCALE:GREGORIAN
METHOD:PUBLISH
X-ORIGINAL-URL:https://bhumikaarts.org
X-WR-CALDESC:Events for Bhūmikā
REFRESH-INTERVAL;VALUE=DURATION:PT1H
X-Robots-Tag:noindex
X-PUBLISHED-TTL:PT1H
BEGIN:VTIMEZONE
TZID:America/New_York
BEGIN:DAYLIGHT
TZOFFSETFROM:-0500
TZOFFSETTO:-0400
TZNAME:EDT
DTSTART:20180311T070000
END:DAYLIGHT
BEGIN:STANDARD
TZOFFSETFROM:-0400
TZOFFSETTO:-0500
TZNAME:EST
DTSTART:20181104T060000
END:STANDARD
BEGIN:DAYLIGHT
TZOFFSETFROM:-0500
TZOFFSETTO:-0400
TZNAME:EDT
DTSTART:20190310T070000
END:DAYLIGHT
BEGIN:STANDARD
TZOFFSETFROM:-0400
TZOFFSETTO:-0500
TZNAME:EST
DTSTART:20191103T060000
END:STANDARD
BEGIN:DAYLIGHT
TZOFFSETFROM:-0500
TZOFFSETTO:-0400
TZNAME:EDT
DTSTART:20200308T070000
END:DAYLIGHT
BEGIN:STANDARD
TZOFFSETFROM:-0400
TZOFFSETTO:-0500
TZNAME:EST
DTSTART:20201101T060000
END:STANDARD
BEGIN:DAYLIGHT
TZOFFSETFROM:-0500
TZOFFSETTO:-0400
TZNAME:EDT
DTSTART:20210314T070000
END:DAYLIGHT
BEGIN:STANDARD
TZOFFSETFROM:-0400
TZOFFSETTO:-0500
TZNAME:EST
DTSTART:20211107T060000
END:STANDARD
BEGIN:DAYLIGHT
TZOFFSETFROM:-0500
TZOFFSETTO:-0400
TZNAME:EDT
DTSTART:20220313T070000
END:DAYLIGHT
BEGIN:STANDARD
TZOFFSETFROM:-0400
TZOFFSETTO:-0500
TZNAME:EST
DTSTART:20221106T060000
END:STANDARD
BEGIN:DAYLIGHT
TZOFFSETFROM:-0500
TZOFFSETTO:-0400
TZNAME:EDT
DTSTART:20230312T070000
END:DAYLIGHT
BEGIN:STANDARD
TZOFFSETFROM:-0400
TZOFFSETTO:-0500
TZNAME:EST
DTSTART:20231105T060000
END:STANDARD
BEGIN:DAYLIGHT
TZOFFSETFROM:-0500
TZOFFSETTO:-0400
TZNAME:EDT
DTSTART:20240310T070000
END:DAYLIGHT
BEGIN:STANDARD
TZOFFSETFROM:-0400
TZOFFSETTO:-0500
TZNAME:EST
DTSTART:20241103T060000
END:STANDARD
BEGIN:DAYLIGHT
TZOFFSETFROM:-0500
TZOFFSETTO:-0400
TZNAME:EDT
DTSTART:20250309T070000
END:DAYLIGHT
BEGIN:STANDARD
TZOFFSETFROM:-0400
TZOFFSETTO:-0500
TZNAME:EST
DTSTART:20251102T060000
END:STANDARD
BEGIN:DAYLIGHT
TZOFFSETFROM:-0500
TZOFFSETTO:-0400
TZNAME:EDT
DTSTART:20260308T070000
END:DAYLIGHT
BEGIN:STANDARD
TZOFFSETFROM:-0400
TZOFFSETTO:-0500
TZNAME:EST
DTSTART:20261101T060000
END:STANDARD
BEGIN:DAYLIGHT
TZOFFSETFROM:-0500
TZOFFSETTO:-0400
TZNAME:EDT
DTSTART:20270314T070000
END:DAYLIGHT
BEGIN:STANDARD
TZOFFSETFROM:-0400
TZOFFSETTO:-0500
TZNAME:EST
DTSTART:20271107T060000
END:STANDARD
END:VTIMEZONE
BEGIN:VTIMEZONE
TZID:UTC
BEGIN:STANDARD
TZOFFSETFROM:+0000
TZOFFSETTO:+0000
TZNAME:UTC
DTSTART:20170101T000000
END:STANDARD
END:VTIMEZONE
BEGIN:VEVENT
DTSTART;TZID=America/New_York:20260313T183000
DTEND;TZID=America/New_York:20260313T193000
DTSTAMP:20260425T121850
CREATED:20260122T034141Z
LAST-MODIFIED:20260122T034409Z
UID:6438-1773426600-1773430200@bhumikaarts.org
SUMMARY:Natya Sangamam: A Festival of Solo Dance Works
DESCRIPTION:Join us at the Plaza Black Box in Boston for Natya Sangamam\, an intimate weekend of solo dance presentations featuring Pallavi Nagesha and Revati Masilamani. This festival celebrates the intersection of tradition\, literature\, and contemporary imagination through two distinct and evocative work \nThe Performances\nCarving the Breath of Stone\nPresented by Pallavi Nagesha Friday\, March 13th | 6:30 PM | Tickets \nWhat happens when the cold precision of stone meets the warmth of human breath? In this solo work\, Pallavi Nagesha explores the soul of the Shilabalike—the iconic bracket figures of ancient Indian temples. Inspired by the profound poetry of D.V. Gundappa (DVG)\, Pallavi moves beyond the physical form of these sculptures to explore the stories\, emotions\, and hidden lives imagined by the poet. Set to a soul-stirring musical score\, this performance is a dialogue between the permanence of stone and the fluidity of dance. \nSthiti-Gati\nPresented by Revati Masilamani Sunday\, March 15th | 5:30 PM |Tickets \nExperience a compelling exploration of the dualities that define our existence: Stillness (Sthiti) and Movement (Gati). In this presentation\, Revati Masilamani delves into the philosophical and physical landscapes of form and flow. Through nuanced movement and expressive storytelling\, Sthiti-Gati invites the audience to contemplate the balance between being and becoming\, finding the rhythm that exists within silence and the stability within change. \nGet Tickets
URL:https://bhumikaarts.org/event/natya-sangamam-a-festival-of-solo-dance-works/
LOCATION:Plaza Black Box\, 539 Tremont Street\, Boston\, MA 02116\, Boston\, MA\, 02116\, United States
ATTACH;FMTTYPE=image/jpeg:https://bhumikaarts.org/wp-content/uploads/2026/01/Bhumika-NatyaSamaagam.jpg
END:VEVENT
BEGIN:VEVENT
DTSTART;TZID=America/New_York:20230930T150000
DTEND;TZID=America/New_York:20230930T173000
DTSTAMP:20260425T121850
CREATED:20230821T005313Z
LAST-MODIFIED:20230821T005313Z
UID:3183-1696086000-1696095000@bhumikaarts.org
SUMMARY:Samana
DESCRIPTION:This event is a the result of the convergence of ideas and movement between two dancers with different backgrounds. Pallavi Nagesha has trained under renowned Bharatanatyam choreographers like Padmini Ravi and Nirupama Rajendra. Her aesthetic sensibilities\, her innate connection to dance\, her deep understanding of poetry\, melody\, and rhythm give her a unique vision that she pours out into her choreography. Revati Masilamani brings years of rigorous practice of this ancient art form. Trained under renowned Kalaskhetra gurus her unique perspective as a lifelong practitioner and learner enriches this partnership. They are both passionate about Bharatantyam that is rooted in tradition and evolves with time. Their alliance brings artistic ideas of contemporary themes and beliefs into a transformative art. They not only use this collaboration to learn and grow\, but to create lasting art that makes a difference to the lives and the thinking of contemporary society. \nSamana (title in progress) is the product of their very first collaborative exercise. This production follows the traditional marga or path\, with ideas that are threaded together in a way that both the artists and the audience can follow\, hold on\, and cherish. This production consists of the dancer\, accompanied by live musicians\, exploring the idea of moments of permanence and impermanence within the flow of music. It also provides a platform for these traditional musicians to perform with a live dancer. \nThe choreography considered not just the poetry\, music\, and rhythm\, but the silences in-between notes\, the shapes between movement and the space between stillness and motion. Pallavi has tried to take classical Indian dance back to its origins of Bharata Nritya\, basing her creative process on the teachings of Natyashastra. Revati executes these movements with her sensibilities and nuanced embellishments. Samana is the equalizer. A commentary on how divergence leads to the perfect convergent storm of art\, ideas\, and lives.
URL:https://bhumikaarts.org/event/samana/
LOCATION:Lexington Christian Academy\, 48 Bartlett Ave\, Lexington\, MA\, 02420\, United States
END:VEVENT
BEGIN:VEVENT
DTSTART;TZID=America/New_York:20191123T153000
DTEND;TZID=America/New_York:20191123T173000
DTSTAMP:20260425T121850
CREATED:20191014T224123Z
LAST-MODIFIED:20191014T225315Z
UID:292-1574523000-1574530200@bhumikaarts.org
SUMMARY:Bhūmikā's 2nd Annual Dance Recital
DESCRIPTION:
URL:https://bhumikaarts.org/event/bhumikas-2nd-annual-dance-recital/
LOCATION:Brooks School\, 3 Ballfield Road\, Lincoln\, MA\, 01773\, United States
CATEGORIES:Dance
ATTACH;FMTTYPE=image/png:https://bhumikaarts.org/wp-content/uploads/2019/10/2019-a-day-logo.png
END:VEVENT
BEGIN:VEVENT
DTSTART;TZID=UTC:20180811T163000
DTEND;TZID=UTC:20180811T183000
DTSTAMP:20260425T121850
CREATED:20180615T233855Z
LAST-MODIFIED:20180615T234403Z
UID:260-1534005000-1534012200@bhumikaarts.org
SUMMARY:Bhūmikā 1st Annual Dance Recital
DESCRIPTION:Pratyagati- a journey through movement\, into grace \nPerformed by the dance students of Bhūmikā \n 
URL:https://bhumikaarts.org/event/bhumika-1st-annual-dance-recital/
LOCATION:Wellesley High School\, 50 Rice Street\, Wellesley\, MA\, 02481\, United States
CATEGORIES:Dance
END:VEVENT
BEGIN:VEVENT
DTSTART;TZID=UTC:20180617T100000
DTEND;TZID=UTC:20180617T113000
DTSTAMP:20260425T121850
CREATED:20180615T180529Z
LAST-MODIFIED:20180615T180641Z
UID:166-1529229600-1529235000@bhumikaarts.org
SUMMARY:Father's Day Yoga
DESCRIPTION:Free Yoga Class lead by Pallavi Nagesha \nPurusha is the soul\, the Self\, pure consciousness\, and the only source of consciousness. The word literally means “man” and is beyond subject and object. Purusha simply is! Come discover your inner strength in an empowering yoga kriya. \nRSVP for this free event! \nFathers\, Mothers\, and children\, all welcome! \n  \n  \n 
URL:https://bhumikaarts.org/event/fathers-day-yoga/
LOCATION:6 Joyce Road\, Wayland\, MA\, 01778\, United States
ATTACH;FMTTYPE=image/jpeg:https://bhumikaarts.org/wp-content/uploads/2018/06/fathers-day.jpg
END:VEVENT
END:VCALENDAR